BEGIN:VCALENDAR
PRODID:-//eluceo/ical//2.0/EN
VERSION:2.0
CALSCALE:GREGORIAN
BEGIN:VEVENT
UID:fa786f4bbb98a39e470943765c90e7f5
DTSTAMP:20260421T013846Z
SUMMARY:JCBA Campaign Major Gift event
DESCRIPTION:Shaw JCC of Akron\nCalendar\nhttps://shawjcc.org/calendar/jcba-
 campaign-major-gift-event-1499890581-238123\n\nJCBA Campaign major gift ev
 ent. By invitation only 
DTSTART;TZID=America/New_York:20171019T173000
DTEND;TZID=America/New_York:20171019T200000
END:VEVENT
END:VCALENDAR
