BEGIN:VCALENDAR
PRODID:-//eluceo/ical//2.0/EN
VERSION:2.0
CALSCALE:GREGORIAN
BEGIN:VEVENT
UID:99b686df134b4b10d3b41689c2c8623b
DTSTAMP:20260422T095206Z
SUMMARY:JCBA Campaign Meeting
DESCRIPTION:Shaw JCC of Akron\nCalendar\nhttps://shawjcc.org/calendar/jcba-
 campaign-meeting-332685\n\nmeeting
DTSTART;TZID=America/New_York:20191114T180000
DTEND;TZID=America/New_York:20191114T190000
END:VEVENT
END:VCALENDAR
