BEGIN:VCALENDAR
PRODID:-//eluceo/ical//2.0/EN
VERSION:2.0
CALSCALE:GREGORIAN
BEGIN:VEVENT
UID:082a752b58093ca906c5cb3903bbb279
DTSTAMP:20260422T230113Z
SUMMARY:JCBA Community Engagement Meeting
DESCRIPTION:Shaw JCC of Akron\nCalendar\nhttps://shawjcc.org/calendar/jcba-
 community-engagement-meeting-325733\n\nMeeting
DTSTART;TZID=America/New_York:20190924T170000
DTEND;TZID=America/New_York:20190924T180000
END:VEVENT
END:VCALENDAR
