BEGIN:VCALENDAR
PRODID:-//eluceo/ical//2.0/EN
VERSION:2.0
CALSCALE:GREGORIAN
BEGIN:VEVENT
UID:dade04feb58d2fae2382ad7aae0b4562
DTSTAMP:20260422T233011Z
SUMMARY:JCBA Endowment Fund Meeting
DESCRIPTION:Shaw JCC of Akron\nCalendar\nhttps://shawjcc.org/calendar/jcba-
 endowment-fund-meeting-1533754750-282815\n\nAnnual meeting of JCBA Endowme
 nt Fund
DTSTART;TZID=America/New_York:20181018T120000
DTEND;TZID=America/New_York:20181018T140000
END:VEVENT
END:VCALENDAR
