BEGIN:VCALENDAR
PRODID:-//eluceo/ical//2.0/EN
VERSION:2.0
CALSCALE:GREGORIAN
BEGIN:VEVENT
UID:ad80490013032611336fba4577bac746
DTSTAMP:20260424T004726Z
SUMMARY:JCBA Endowment Committee Meeting
DESCRIPTION:Shaw JCC of Akron\nCalendar\nhttps://shawjcc.org/calendar/jcba-
 endowment-meeting-371937\n\nMeeting of the JCBA Endowment Fund Committee
DTSTART;TZID=America/New_York:20210216T173000
DTEND;TZID=America/New_York:20210216T183000
END:VEVENT
END:VCALENDAR
