BEGIN:VCALENDAR
PRODID:-//eluceo/ical//2.0/EN
VERSION:2.0
CALSCALE:GREGORIAN
BEGIN:VEVENT
UID:79a9a6904765c7b67e123423949f982e
DTSTAMP:20260424T065506Z
SUMMARY:JCBA External Affairs Committee
DESCRIPTION:Shaw JCC of Akron\nCalendar\nhttps://shawjcc.org/calendar/jcba-
 external-affairs-committee-325734\n\nMeeting
DTSTART;TZID=America/New_York:20191007T160000
DTEND;TZID=America/New_York:20191007T170000
END:VEVENT
END:VCALENDAR
