BEGIN:VCALENDAR
PRODID:-//eluceo/ical//2.0/EN
VERSION:2.0
CALSCALE:GREGORIAN
BEGIN:VEVENT
UID:36491ce90784ed5745f00d42acbc0a57
DTSTAMP:20260420T204418Z
SUMMARY:JCBA Marketing Committee Meeting
DESCRIPTION:Shaw JCC of Akron\nCalendar\nhttps://shawjcc.org/calendar/jcba-
 marketing-committee-meeting-june24-315357\n\nJCBA Marketing Committee Meet
 ing in the JCBA Conference Room
DTSTART;TZID=America/New_York:20190624T163000
DTEND;TZID=America/New_York:20190624T183000
END:VEVENT
END:VCALENDAR
