BEGIN:VCALENDAR
PRODID:-//eluceo/ical//2.0/EN
VERSION:2.0
CALSCALE:GREGORIAN
BEGIN:VEVENT
UID:798325e778085bd85d401ea5b5325257
DTSTAMP:20260424T115154Z
SUMMARY:JCBA Parlor Meeting
DESCRIPTION:Shaw JCC of Akron\nCalendar\nhttps://shawjcc.org/calendar/jcba-
 parlor-meeting1-336881\n\nCampaign 2020 Parlor Meeting
DTSTART;TZID=America/New_York:20200129T190000
DTEND;TZID=America/New_York:20200129T210000
END:VEVENT
END:VCALENDAR
