BEGIN:VCALENDAR
PRODID:-//eluceo/ical//2.0/EN
VERSION:2.0
CALSCALE:GREGORIAN
BEGIN:VEVENT
UID:a0d415ad463b90db38d75e82e7157373
DTSTAMP:20260422T132049Z
SUMMARY:JCBA Visioning Session
DESCRIPTION:Shaw JCC of Akron\nCalendar\nhttps://shawjcc.org/calendar/jcba-
 visioning-session-1509043342-250593\n\nJCBA visioning session with parents
  of Jewish children
DTSTART;TZID=America/New_York:20171119T043000
DTEND;TZID=America/New_York:20171119T183000
END:VEVENT
END:VCALENDAR
