BEGIN:VCALENDAR
PRODID:-//eluceo/ical//2.0/EN
VERSION:2.0
CALSCALE:GREGORIAN
BEGIN:VEVENT
UID:51f5b16c91b83b7ce90cf46e958249cd
DTSTAMP:20260422T160703Z
SUMMARY:Shaw JCC Annual Membership Appreciation Pool Party
DESCRIPTION:Shaw JCC of Akron\nCalendar\nhttps://shawjcc.org/calendar/jcc-a
 nnual-membership-appreciation-pool-party-1521050232-264650\n\nWe love our 
 members\, and we’re celebrating with our annual Member Appreciation Pool
  Party! Enjoy DJ entertainment\, food\, prizes\, a bounce house\, dunk tan
 k\, games and contests – and fun in the outdoor pool\, of course. Plus\,
  kids will love swimming with the Little Mermaid from 1-3 p.m.\n\nALL FOR 
 FREE\, and bring a guest\, too!\nNo RSVP required.\n\n*Must be a member of
  the Shaw JCC to attend.\n\n\nThis is a totally FREE event for JCC members
  – and their guests\, too! (guests will have to ...
DTSTART;TZID=America/New_York:20180729T120000
DTEND;TZID=America/New_York:20180729T160000
END:VEVENT
END:VCALENDAR
