BEGIN:VCALENDAR
PRODID:-//eluceo/ical//2.0/EN
VERSION:2.0
CALSCALE:GREGORIAN
BEGIN:VEVENT
UID:269e8fddcf03284eec2747c21bb25625
DTSTAMP:20260425T133426Z
SUMMARY:JCC Board Meeting
DESCRIPTION:Shaw JCC of Akron\nCalendar\nhttps://shawjcc.org/calendar/jcc-b
 oard-meeting-1-24-385807\n\nJCC Board Meeting
DTSTART;TZID=America/New_York:20220124T180000
DTEND;TZID=America/New_York:20220124T190000
END:VEVENT
END:VCALENDAR
