BEGIN:VCALENDAR
PRODID:-//eluceo/ical//2.0/EN
VERSION:2.0
CALSCALE:GREGORIAN
BEGIN:VEVENT
UID:d63794f020d336d1e9f50f1fe898c05c
DTSTAMP:20260420T183634Z
SUMMARY:JCC Board Meeting
DESCRIPTION:Shaw JCC of Akron\nCalendar\nhttps://shawjcc.org/calendar/jcc-b
 oard-meeting-10-16-445114\n\n.
DTSTART;TZID=America/New_York:20231016T173000
DTEND;TZID=America/New_York:20231016T183000
END:VEVENT
END:VCALENDAR
