BEGIN:VCALENDAR
PRODID:-//eluceo/ical//2.0/EN
VERSION:2.0
CALSCALE:GREGORIAN
BEGIN:VEVENT
UID:71e43c8e2442a977f909a6c1bb0fcc02
DTSTAMP:20260424T141722Z
SUMMARY:JCC Board Meeting
DESCRIPTION:Shaw JCC of Akron\nCalendar\nhttps://shawjcc.org/calendar/jcc-b
 oard-meeting-11-22-385806\n\nJCC Board Meeting
DTSTART;TZID=America/New_York:20211122T180000
DTEND;TZID=America/New_York:20211122T190000
END:VEVENT
END:VCALENDAR
