BEGIN:VCALENDAR
PRODID:-//eluceo/ical//2.0/EN
VERSION:2.0
CALSCALE:GREGORIAN
BEGIN:VEVENT
UID:1265ef529868124af1c333abc6eee905
DTSTAMP:20260425T175434Z
SUMMARY:JCC Board Meeting
DESCRIPTION:Shaw JCC of Akron\nCalendar\nhttps://shawjcc.org/calendar/jcc-b
 oard-meeting-1497466940-234655\n\n.
DTSTART;TZID=America/New_York:20171023T190000
DTEND;TZID=America/New_York:20171023T203000
END:VEVENT
END:VCALENDAR
