BEGIN:VCALENDAR
PRODID:-//eluceo/ical//2.0/EN
VERSION:2.0
CALSCALE:GREGORIAN
BEGIN:VEVENT
UID:fd4fe5c5233bce94b38e00bd37656e6c
DTSTAMP:20260422T080444Z
SUMMARY:JCC Board Meeting
DESCRIPTION:Shaw JCC of Akron\nCalendar\nhttps://shawjcc.org/calendar/jcc-b
 oard-meeting-1497467284-234656\n\n.
DTSTART;TZID=America/New_York:20171127T190000
DTEND;TZID=America/New_York:20171127T203000
END:VEVENT
END:VCALENDAR
