BEGIN:VCALENDAR
PRODID:-//eluceo/ical//2.0/EN
VERSION:2.0
CALSCALE:GREGORIAN
BEGIN:VEVENT
UID:ccc2deb28c6bf81fa3569a9f79188940
DTSTAMP:20260423T044136Z
SUMMARY:JCC Board Meeting
DESCRIPTION:Shaw JCC of Akron\nCalendar\nhttps://shawjcc.org/calendar/jcc-b
 oard-meeting-1527710545-272692\n\n.
DTSTART;TZID=America/New_York:20180917T190000
DTEND;TZID=America/New_York:20180917T200000
END:VEVENT
END:VCALENDAR
