BEGIN:VCALENDAR
PRODID:-//eluceo/ical//2.0/EN
VERSION:2.0
CALSCALE:GREGORIAN
BEGIN:VEVENT
UID:b6a4afa5d1b8181046a95d23999a1a02
DTSTAMP:20260426T022153Z
SUMMARY:JCC Board Meeting
DESCRIPTION:Shaw JCC of Akron\nCalendar\nhttps://shawjcc.org/calendar/jcc-b
 oard-meeting-1528119719-273069\n\n.
DTSTART;TZID=America/New_York:20190225T190000
DTEND;TZID=America/New_York:20190225T203000
END:VEVENT
END:VCALENDAR
