BEGIN:VCALENDAR
PRODID:-//eluceo/ical//2.0/EN
VERSION:2.0
CALSCALE:GREGORIAN
BEGIN:VEVENT
UID:98e9b42335696d20f5e48516a153b30b
DTSTAMP:20260422T115027Z
SUMMARY:JCC Board Meeting
DESCRIPTION:Shaw JCC of Akron\nCalendar\nhttps://shawjcc.org/calendar/jcc-b
 oard-meeting-1561672947-316486\n\n.
DTSTART;TZID=America/New_York:20190924T180000
DTEND;TZID=America/New_York:20190924T190000
END:VEVENT
END:VCALENDAR
