BEGIN:VCALENDAR
PRODID:-//eluceo/ical//2.0/EN
VERSION:2.0
CALSCALE:GREGORIAN
BEGIN:VEVENT
UID:621031724a60f310023ede8b78d1e435
DTSTAMP:20260420T120644Z
SUMMARY:JCC Board Meeting
DESCRIPTION:Shaw JCC of Akron\nCalendar\nhttps://shawjcc.org/calendar/jcc-b
 oard-meeting-1561673231-316490\n\n.
DTSTART;TZID=America/New_York:20200518T190000
DTEND;TZID=America/New_York:20200518T200000
END:VEVENT
END:VCALENDAR
