BEGIN:VCALENDAR
PRODID:-//eluceo/ical//2.0/EN
VERSION:2.0
CALSCALE:GREGORIAN
BEGIN:VEVENT
UID:31e6c1e803c518ae9e96f8123989a49e
DTSTAMP:20260420T234348Z
SUMMARY:JCC Board Meeting
DESCRIPTION:Shaw JCC of Akron\nCalendar\nhttps://shawjcc.org/calendar/jcc-b
 oard-meeting-1660940838-415361\n\n.
DTSTART;TZID=America/New_York:20220822T073000
DTEND;TZID=America/New_York:20220822T090000
END:VEVENT
END:VCALENDAR
