BEGIN:VCALENDAR
PRODID:-//eluceo/ical//2.0/EN
VERSION:2.0
CALSCALE:GREGORIAN
BEGIN:VEVENT
UID:d1a780be367f7a89a39adcde617a1297
DTSTAMP:20260422T212805Z
SUMMARY:JCC Board Meeting
DESCRIPTION:Shaw JCC of Akron\nCalendar\nhttps://shawjcc.org/calendar/jcc-b
 oard-meeting-1660941031-415364\n\n.
DTSTART;TZID=America/New_York:20230227T173000
DTEND;TZID=America/New_York:20230227T190000
END:VEVENT
END:VCALENDAR
