BEGIN:VCALENDAR
PRODID:-//eluceo/ical//2.0/EN
VERSION:2.0
CALSCALE:GREGORIAN
BEGIN:VEVENT
UID:88f58481233255a5514136c6f50969a8
DTSTAMP:20260420T215823Z
SUMMARY:JCC Board Meeting
DESCRIPTION:Shaw JCC of Akron\nCalendar\nhttps://shawjcc.org/calendar/jcc-b
 oard-meeting-8-28-445113\n\n.
DTSTART;TZID=America/New_York:20230828T173000
DTEND;TZID=America/New_York:20230828T183000
END:VEVENT
END:VCALENDAR
