BEGIN:VCALENDAR
PRODID:-//eluceo/ical//2.0/EN
VERSION:2.0
CALSCALE:GREGORIAN
BEGIN:VEVENT
UID:fdb6867ac54033b856198539fad8bdab
DTSTAMP:20260420T222929Z
SUMMARY:JCC Budget and Finance Committee
DESCRIPTION:Shaw JCC of Akron\nCalendar\nhttps://shawjcc.org/calendar/jcc-b
 udget-and-finance-committee-1556227290-308774\n\n.
DTSTART;TZID=America/New_York:20190429T173000
DTEND;TZID=America/New_York:20190429T183000
END:VEVENT
END:VCALENDAR
