BEGIN:VCALENDAR
PRODID:-//eluceo/ical//2.0/EN
VERSION:2.0
CALSCALE:GREGORIAN
BEGIN:VEVENT
UID:7e426079da03b0da9a9f7455a5c2690e
DTSTAMP:20260421T133042Z
SUMMARY:JCC Camp Kickoff Event
DESCRIPTION:Shaw JCC of Akron\nCalendar\nhttps://shawjcc.org/calendar/jcc-c
 amp-kickoff-event-504575\n\nJCC Kick Off to Camp
DTSTART;TZID=America/New_York:20260125T130000
DTEND;TZID=America/New_York:20260125T150000
END:VEVENT
END:VCALENDAR
