BEGIN:VCALENDAR
PRODID:-//eluceo/ical//2.0/EN
VERSION:2.0
CALSCALE:GREGORIAN
BEGIN:VEVENT
UID:1de1c58ea28d352654adc12df48416cc
DTSTAMP:20260426T021941Z
SUMMARY:JCC Development Committee Meeting
DESCRIPTION:Shaw JCC of Akron\nCalendar\nhttps://shawjcc.org/calendar/jcc-d
 evelopment-committee-meeting-1582920521-344790\n\nmeeting.
DTSTART;TZID=America/New_York:20200320T073000
DTEND;TZID=America/New_York:20200320T083000
END:VEVENT
END:VCALENDAR
