BEGIN:VCALENDAR
PRODID:-//eluceo/ical//2.0/EN
VERSION:2.0
CALSCALE:GREGORIAN
BEGIN:VEVENT
UID:2e20c9ff8c7605942a608b02d8341c81
DTSTAMP:20260425T225712Z
SUMMARY:JCC Executive Board Meeting
DESCRIPTION:Shaw JCC of Akron\nCalendar\nhttps://shawjcc.org/calendar/jcc-e
 xecutive-board-meeting-1521137501-264805\n\n.
DTSTART;TZID=America/New_York:20180326T180000
DTEND;TZID=America/New_York:20180326T200000
END:VEVENT
END:VCALENDAR
