BEGIN:VCALENDAR
PRODID:-//eluceo/ical//2.0/EN
VERSION:2.0
CALSCALE:GREGORIAN
BEGIN:VEVENT
UID:5e0acc056203580892a17143e5b056e4
DTSTAMP:20260420T134103Z
SUMMARY:JCC Executive Committee
DESCRIPTION:Shaw JCC of Akron\nCalendar\nhttps://shawjcc.org/calendar/jcc-e
 xecutive-committee-1527710415-272691\n\n.
DTSTART;TZID=America/New_York:20180813T190000
DTEND;TZID=America/New_York:20180813T203000
END:VEVENT
END:VCALENDAR
