BEGIN:VCALENDAR
PRODID:-//eluceo/ical//2.0/EN
VERSION:2.0
CALSCALE:GREGORIAN
BEGIN:VEVENT
UID:725c3b63ca78f3ee731591a062b0ed44
DTSTAMP:20260422T231051Z
SUMMARY:JCC Executive Committee
DESCRIPTION:Shaw JCC of Akron\nCalendar\nhttps://shawjcc.org/calendar/jcc-e
 xecutive-committee-1527711165-272697\n\n.
DTSTART;TZID=America/New_York:20181217T190000
DTEND;TZID=America/New_York:20181217T200000
END:VEVENT
END:VCALENDAR
