BEGIN:VCALENDAR
PRODID:-//eluceo/ical//2.0/EN
VERSION:2.0
CALSCALE:GREGORIAN
BEGIN:VEVENT
UID:aa56d32b16fb99abbd1d6a2f3995c0b3
DTSTAMP:20260421T014819Z
SUMMARY:JCC Executive Committee Meeting
DESCRIPTION:Shaw JCC of Akron\nCalendar\nhttps://shawjcc.org/calendar/jcc-e
 xecutive-committee-meeting-1561672527-316483\n\n.
DTSTART;TZID=America/New_York:20190730T173000
DTEND;TZID=America/New_York:20190730T183000
END:VEVENT
END:VCALENDAR
