BEGIN:VCALENDAR
PRODID:-//eluceo/ical//2.0/EN
VERSION:2.0
CALSCALE:GREGORIAN
BEGIN:VEVENT
UID:e8705ce056cfe921ae4a65593d76cb88
DTSTAMP:20260420T102809Z
SUMMARY:JCC Family Fun Day
DESCRIPTION:Shaw JCC of Akron\nCalendar\nhttps://shawjcc.org/calendar/jcc-f
 amily-fun-day-1635179931-392353\n\n.
DTSTART;TZID=America/New_York:20220116T130000
DTEND;TZID=America/New_York:20220116T150000
END:VEVENT
END:VCALENDAR
