BEGIN:VCALENDAR
PRODID:-//eluceo/ical//2.0/EN
VERSION:2.0
CALSCALE:GREGORIAN
BEGIN:VEVENT
UID:6a285ae740f88791c5e3230819c0290b
DTSTAMP:20260423T113417Z
SUMMARY:JCC Finance Committee
DESCRIPTION:Shaw JCC of Akron\nCalendar\nhttps://shawjcc.org/calendar/jcc-f
 inance-committee-1562189916-317043\n\n.
DTSTART;TZID=America/New_York:20190729T180000
DTEND;TZID=America/New_York:20190729T193000
END:VEVENT
END:VCALENDAR
