BEGIN:VCALENDAR
PRODID:-//eluceo/ical//2.0/EN
VERSION:2.0
CALSCALE:GREGORIAN
BEGIN:VEVENT
UID:e7054b055e7090ea06c302e75cc530db
DTSTAMP:20260425T012355Z
SUMMARY:JCC Fitness Committee
DESCRIPTION:Shaw JCC of Akron\nCalendar\nhttps://shawjcc.org/calendar/jcc-f
 itness-committee-1528145432-273177\n\n.
DTSTART;TZID=America/New_York:20180611T180000
DTEND;TZID=America/New_York:20180611T190000
END:VEVENT
END:VCALENDAR
