BEGIN:VCALENDAR
PRODID:-//eluceo/ical//2.0/EN
VERSION:2.0
CALSCALE:GREGORIAN
BEGIN:VEVENT
UID:ee75b917cc91140020266893ccd5b936
DTSTAMP:20260423T143238Z
SUMMARY:JCC Golf Outing
DESCRIPTION:Shaw JCC of Akron\nCalendar\nhttps://shawjcc.org/calendar/jcc-g
 olf-outing-2026-515154\n\nThe annual Golf Outing
DTSTART;TZID=America/New_York:20260810T120000
DTEND;TZID=America/New_York:20260810T160000
END:VEVENT
END:VCALENDAR
