BEGIN:VCALENDAR
PRODID:-//eluceo/ical//2.0/EN
VERSION:2.0
CALSCALE:GREGORIAN
BEGIN:VEVENT
UID:41c5afd97c501bb67cbcfac460fe0bde
DTSTAMP:20260422T210058Z
SUMMARY:Shaw JCC Golf Outing Committee
DESCRIPTION:Shaw JCC of Akron\nCalendar\nhttps://shawjcc.org/calendar/jcc-g
 olf-outing-committee-1556634922-308966\n\n.
DTSTART;TZID=America/New_York:20190617T173000
DTEND;TZID=America/New_York:20190617T183000
END:VEVENT
END:VCALENDAR
