BEGIN:VCALENDAR
PRODID:-//eluceo/ical//2.0/EN
VERSION:2.0
CALSCALE:GREGORIAN
BEGIN:VEVENT
UID:ddafcf56fc6e64664c4534f70930c136
DTSTAMP:20260425T010515Z
SUMMARY:JCC Hang Out for Mothers and Daughters
DESCRIPTION:Shaw JCC of Akron\nCalendar\nhttps://shawjcc.org/calendar/jcc-h
 ang-out-for-mothers-and-daughters-264524\n\nWe will be packing boxes of do
 nated items to send to Israel. We will be collecting these items all week 
 at the JCC. Please hand them to Scott\, Jenna\, or the front desk and tell
  them it's for BBYO. The items that are needed are pads\, tampons\, small 
 generally used purses\, and hair care products for black hair. Grades 7-12
  RSVP to jmbaker484@gmail.com.
DTSTART;TZID=America/New_York:20180409T174500
DTEND;TZID=America/New_York:20180409T203000
END:VEVENT
END:VCALENDAR
