BEGIN:VCALENDAR
PRODID:-//eluceo/ical//2.0/EN
VERSION:2.0
CALSCALE:GREGORIAN
BEGIN:VEVENT
UID:09c1640e0871b9bab9d65a8ac205521b
DTSTAMP:20260426T003737Z
SUMMARY:JCC Maccabi Informational Meeting
DESCRIPTION:Shaw JCC of Akron\nCalendar\nhttps://shawjcc.org/calendar/jcc-m
 accabi-informational-meeting-224488\n\nThe Shaw JCC will be sending a dele
 gation of teen athletes to Albany\, NY for the 2017 JCC Maccabi games\, Au
 gust 6 – 11\, 2017. \n\nMEETING: Monday\, March 13\, 6:30 – 7:30 p.m.
  at the Shaw JCC\nPlease join us for this informational meeting: During th
 e meeting you will learn about the who\, what\, how much\, etc.\nRefreshme
 nts/Snacks will be served.  Being great at a sport is not required.\n\nTh
 e JCC Maccabi games are like the Olympics. There are opening/closing cerem
 onies\, games\, community pr...
DTSTART;TZID=America/New_York:20170313T183000
DTEND;TZID=America/New_York:20170313T193000
END:VEVENT
END:VCALENDAR
