BEGIN:VCALENDAR
PRODID:-//eluceo/ical//2.0/EN
VERSION:2.0
CALSCALE:GREGORIAN
BEGIN:VEVENT
UID:d4a2e0ebe84d55b3f8f9854334c669c4
DTSTAMP:20260424T131641Z
SUMMARY:JCC Marketing Committee Meeting
DESCRIPTION:Shaw JCC of Akron\nCalendar\nhttps://shawjcc.org/calendar/jcc-m
 arketing-committee-meeting-1530043509-275801\n\n.
DTSTART;TZID=America/New_York:20180711T163000
DTEND;TZID=America/New_York:20180711T173000
END:VEVENT
END:VCALENDAR
