BEGIN:VCALENDAR
PRODID:-//eluceo/ical//2.0/EN
VERSION:2.0
CALSCALE:GREGORIAN
BEGIN:VEVENT
UID:f352326b50e9eac695fe81385cfb76d3
DTSTAMP:20260423T151112Z
SUMMARY:JCC Membership Committee
DESCRIPTION:Shaw JCC of Akron\nCalendar\nhttps://shawjcc.org/calendar/jcc-m
 embership-committee-1554493768-307064\n\n.
DTSTART;TZID=America/New_York:20190408T173000
DTEND;TZID=America/New_York:20190408T183000
END:VEVENT
END:VCALENDAR
