BEGIN:VCALENDAR
PRODID:-//eluceo/ical//2.0/EN
VERSION:2.0
CALSCALE:GREGORIAN
BEGIN:VEVENT
UID:38d20734b45763db108ba98445557852
DTSTAMP:20260421T031833Z
SUMMARY:JCC Membership Committee
DESCRIPTION:Shaw JCC of Akron\nCalendar\nhttps://shawjcc.org/calendar/jcc-m
 embership-committee-1566933678-323574\n\n.
DTSTART;TZID=America/New_York:20190905T173000
DTEND;TZID=America/New_York:20190905T183000
END:VEVENT
END:VCALENDAR
