BEGIN:VCALENDAR
PRODID:-//eluceo/ical//2.0/EN
VERSION:2.0
CALSCALE:GREGORIAN
BEGIN:VEVENT
UID:9c8b63271f03928a3656a9484cc0b5ba
DTSTAMP:20260420T134406Z
SUMMARY:JCC Red Cross Blood Drive
DESCRIPTION:Shaw JCC of Akron\nCalendar\nhttps://shawjcc.org/calendar/jcc-r
 ed-cross-blood-drive-1614796530-376054\n\n*
DTSTART;TZID=America/New_York:20210611T120000
DTEND;TZID=America/New_York:20210611T180000
END:VEVENT
END:VCALENDAR
