BEGIN:VCALENDAR
PRODID:-//eluceo/ical//2.0/EN
VERSION:2.0
CALSCALE:GREGORIAN
BEGIN:VEVENT
UID:c6003130d57e9689165f3e96530db296
DTSTAMP:20260425T162723Z
SUMMARY:JCC Scholarship Committee
DESCRIPTION:Shaw JCC of Akron\nCalendar\nhttps://shawjcc.org/calendar/jcc-s
 cholarship-committee-1536251777-286357\n\n.
DTSTART;TZID=America/New_York:20180917T073000
DTEND;TZID=America/New_York:20180917T083000
END:VEVENT
END:VCALENDAR
