BEGIN:VCALENDAR
PRODID:-//eluceo/ical//2.0/EN
VERSION:2.0
CALSCALE:GREGORIAN
BEGIN:VEVENT
UID:1837a93d0f078df2c92837aee050f9e4
DTSTAMP:20260423T151439Z
SUMMARY:JCC Search Committee
DESCRIPTION:Shaw JCC of Akron\nCalendar\nhttps://shawjcc.org/calendar/jcc-s
 earch-committee-1525113021-269519\n\n.
DTSTART;TZID=America/New_York:20180605T174500
DTEND;TZID=America/New_York:20180605T210000
END:VEVENT
END:VCALENDAR
