BEGIN:VCALENDAR
PRODID:-//eluceo/ical//2.0/EN
VERSION:2.0
CALSCALE:GREGORIAN
BEGIN:VEVENT
UID:cc67f584b858fdabd0c64373e5201590
DTSTAMP:20260422T171454Z
SUMMARY:JCC Speaker Series
DESCRIPTION:Shaw JCC of Akron\nCalendar\nhttps://shawjcc.org/calendar/jcc-s
 peaker-series-1646167600-401229\n\n.
DTSTART;TZID=America/New_York:20220414T181500
DTEND;TZID=America/New_York:20220414T201500
END:VEVENT
END:VCALENDAR
