BEGIN:VCALENDAR
PRODID:-//eluceo/ical//2.0/EN
VERSION:2.0
CALSCALE:GREGORIAN
BEGIN:VEVENT
UID:0c67b76d299f3001cc169b46b2cd072e
DTSTAMP:20260422T193444Z
SUMMARY:JCC Summer Concert
DESCRIPTION:Shaw JCC of Akron\nCalendar\nhttps://shawjcc.org/calendar/jcc-s
 ummer-concert-1625241263-384501\n\nConcert
DTSTART;TZID=America/New_York:20210819T183000
DTEND;TZID=America/New_York:20210819T200000
END:VEVENT
END:VCALENDAR
