BEGIN:VCALENDAR
PRODID:-//eluceo/ical//2.0/EN
VERSION:2.0
CALSCALE:GREGORIAN
BEGIN:VEVENT
UID:877976ce6096f75df7779ec583754aa2
DTSTAMP:20260423T061414Z
SUMMARY:JCC Zoom Board Meeting
DESCRIPTION:Shaw JCC of Akron\nCalendar\nhttps://shawjcc.org/calendar/jcc-z
 oom-board-meeting-463868\n\n.
DTSTART;TZID=America/New_York:20240506T173000
DTEND;TZID=America/New_York:20240506T183000
END:VEVENT
END:VCALENDAR
