BEGIN:VCALENDAR
PRODID:-//eluceo/ical//2.0/EN
VERSION:2.0
CALSCALE:GREGORIAN
BEGIN:VEVENT
UID:4f914f90c7d68f98a4c7fcd9ec3e308b
DTSTAMP:20260421T001410Z
SUMMARY:Jerusalem Under Ottoman Rule: A Cleveland Woman’s Eyewitness Acco
 unt
DESCRIPTION:Shaw JCC of Akron\nCalendar\nhttps://shawjcc.org/calendar/jerus
 alem-under-ottoman-rule-a-cleveland-womans-eyewitness-account-1549466535-3
 01074\n\nTravel back in time to an era of Israel’s history that is often
  overlooked. During the last years of the Ottoman Empire\, Palestine was b
 ursting with tourism\, economic growth\, and new institutions. Jerusalem i
 n particular — which had always been in the hearts of Jews around the wo
 rld — was experiencing major growth and change. Join author Debbi Perkul
  to learn about the fascinating years of 1913–1915 through the eyes of C
 levelander Rae Landy\, the very first Hadassah nurse. A book signi...
DTSTART;TZID=America/New_York:20190213T190000
DTEND;TZID=America/New_York:20190213T210000
END:VEVENT
END:VCALENDAR
