BEGIN:VCALENDAR
PRODID:-//eluceo/ical//2.0/EN
VERSION:2.0
CALSCALE:GREGORIAN
BEGIN:VEVENT
UID:c846a86e2e37b98ff3a7dc0480ae8db7
DTSTAMP:20260423T052530Z
SUMMARY:Jewish Akron Board Meeting
DESCRIPTION:Shaw JCC of Akron\nCalendar\nhttps://shawjcc.org/calendar/jewis
 h-akron-board-meeting-4-445034\n\n.
DTSTART;TZID=America/New_York:20240201T173000
DTEND;TZID=America/New_York:20240201T190000
END:VEVENT
END:VCALENDAR
