BEGIN:VCALENDAR
PRODID:-//eluceo/ical//2.0/EN
VERSION:2.0
CALSCALE:GREGORIAN
BEGIN:VEVENT
UID:41ae831a3e7f0e157543fc5c32cb4ea5
DTSTAMP:20260425T161523Z
SUMMARY:Jewish American Writing - Selected Stories through Time
DESCRIPTION:Shaw JCC of Akron\nCalendar\nhttps://shawjcc.org/calendar/jewis
 h-american-writing-294228\n\nJewish American Writing - Selected Stories th
 rough Time is the Winter Class of Encountering Jewish Culture through Sto
 ries\, Poetry & Art 2019 Series. Esther Hexter\, award winning Jewish educ
 ator\, will guide seniors and friends in lively discussion and exploration
  of selections of Jewish American Writing from 350 years. No experience is
  required\, just the desire to learn. New learners are always welcome.\n\
 nClass will meet six Wednesdays in a row - Jan. 9\, 16\, 23\, 30\, Feb. 
 6  & 13\, 2019 ...
DTSTART;TZID=America/New_York:20190109T111500
DTEND;TZID=America/New_York:20190109T124500
END:VEVENT
END:VCALENDAR
