BEGIN:VCALENDAR
PRODID:-//eluceo/ical//2.0/EN
VERSION:2.0
CALSCALE:GREGORIAN
BEGIN:VEVENT
UID:8481275c1543dae1efa7e794986538fb
DTSTAMP:20260425T023919Z
SUMMARY:Jewish and Public Affairs Forum
DESCRIPTION:Shaw JCC of Akron\nCalendar\nhttps://shawjcc.org/calendar/jewis
 h-and-public-affairs-forum-209671\n\nJewish and Public Affairs Forum with 
 Coach Keith Dambrot
DTSTART;TZID=America/New_York:20170519T170000
DTEND;TZID=America/New_York:20170519T220000
END:VEVENT
END:VCALENDAR
