BEGIN:VCALENDAR
PRODID:-//eluceo/ical//2.0/EN
VERSION:2.0
CALSCALE:GREGORIAN
BEGIN:VEVENT
UID:081aef90b638bdabc82701254ffd1b08
DTSTAMP:20260422T024144Z
SUMMARY:Jewish Book Giveaway & Coffee in Shaw JCC Lobby
DESCRIPTION:Shaw JCC of Akron\nCalendar\nhttps://shawjcc.org/calendar/jewis
 h-book-giveaway-in-shaw-jcc-lobby-261848\n\nWe’re purging our shelves fo
 r Passover & have lots of FREE books to share with you. Get your first lo
 ok on March 19 and browse through books on various Jewish topics\, educati
 onal and resource material\, some coffee table books and a few children’
 s books - and enjoy a cup of coffee. The book giveaway will be available i
 n the Shaw JCC lobby through Friday\, March 23 during normal business hour
 s. New books will be put out every day\, so please keep checking back!
DTSTART;TZID=America/New_York:20180319T100000
DTEND;TZID=America/New_York:20180319T120000
END:VEVENT
END:VCALENDAR
